BEGIN:VCALENDAR
VERSION:2.0
PRODID:-//law.utexas.edu//Course Schedule//EN
CALSCALE:GREGORIAN
METHOD:PUBLISH
BEGIN:VTIMEZONE
TZID:America/Chicago
X-LIC-LOCATION:America/Chicago
BEGIN:DAYLIGHT
TZOFFSETFROM:-0600
TZOFFSETTO:-0500
TZNAME:CDT
DTSTART:19700308T020000
RRULE:FREQ=YEARLY;BYMONTH=3;BYDAY=2SU
END:DAYLIGHT
BEGIN:STANDARD
TZOFFSETFROM:-0500
TZOFFSETTO:-0600
TZNAME:CST
DTSTART:19701101T020000
RRULE:FREQ=YEARLY;BYMONTH=11;BYDAY=1SU
END:STANDARD
END:VTIMEZONE
BEGIN:VEVENT
SUMMARY:Preparing for a Federal District Clerkship
LOCATION:TNH 3.125
DTSTART;TZID=America/Chicago:20250116T175500
DTEND;TZID=America/Chicago:20250116T194500
RRULE:FREQ=WEEKLY;BYDAY=TH;UNTIL=20250428T220000
EXDATE;TZID=America/Chicago:20250320T175500
UID:1c743ea6a05716ef110742c6fdc48a87
DTSTAMP:20260419T131649
DESCRIPTION:Instructors: Elizabeth S. Chestney, Richard B. Farrer
END:VEVENT
END:VCALENDAR
