BEGIN:VCALENDAR
VERSION:2.0
PRODID:-//law.utexas.edu//Course Schedule//EN
CALSCALE:GREGORIAN
METHOD:PUBLISH
BEGIN:VTIMEZONE
TZID:America/Chicago
X-LIC-LOCATION:America/Chicago
BEGIN:DAYLIGHT
TZOFFSETFROM:-0600
TZOFFSETTO:-0500
TZNAME:CDT
DTSTART:19700308T020000
RRULE:FREQ=YEARLY;BYMONTH=3;BYDAY=2SU
END:DAYLIGHT
BEGIN:STANDARD
TZOFFSETFROM:-0500
TZOFFSETTO:-0600
TZNAME:CST
DTSTART:19701101T020000
RRULE:FREQ=YEARLY;BYMONTH=11;BYDAY=1SU
END:STANDARD
END:VTIMEZONE
BEGIN:VEVENT
SUMMARY:Texas Energy Law
LOCATION:TNH 3.126
DTSTART;TZID=America/Chicago:20250114T175500
DTEND;TZID=America/Chicago:20250114T194500
RRULE:FREQ=WEEKLY;BYDAY=TU;UNTIL=20250428T220000
EXDATE;TZID=America/Chicago:20250318T175500
UID:f4bccebc9573279fc6f262304c953c29
DTSTAMP:20260419T182925
DESCRIPTION:Instructors: Barry T. Smitherman
END:VEVENT
END:VCALENDAR
