BEGIN:VCALENDAR
VERSION:2.0
PRODID:-//law.utexas.edu//Course Schedule//EN
CALSCALE:GREGORIAN
METHOD:PUBLISH
BEGIN:VTIMEZONE
TZID:America/Chicago
X-LIC-LOCATION:America/Chicago
BEGIN:DAYLIGHT
TZOFFSETFROM:-0600
TZOFFSETTO:-0500
TZNAME:CDT
DTSTART:19700308T020000
RRULE:FREQ=YEARLY;BYMONTH=3;BYDAY=2SU
END:DAYLIGHT
BEGIN:STANDARD
TZOFFSETFROM:-0500
TZOFFSETTO:-0600
TZNAME:CST
DTSTART:19701101T020000
RRULE:FREQ=YEARLY;BYMONTH=11;BYDAY=1SU
END:STANDARD
END:VTIMEZONE
BEGIN:VEVENT
SUMMARY:Administrative Law
LOCATION:TNH 3.142
DTSTART;TZID=America/Chicago:20250113T090500
DTEND;TZID=America/Chicago:20250113T101200
RRULE:FREQ=WEEKLY;BYDAY=MO,TU,WE;UNTIL=20250428T220000
EXDATE;TZID=America/Chicago:20250317T090500
EXDATE;TZID=America/Chicago:20250318T090500
EXDATE;TZID=America/Chicago:20250319T090500
UID:ee9cf7a4798febd44232eaef98b86d33
DTSTAMP:20260423T115645
DESCRIPTION:Instructors: David E. Adelman
END:VEVENT
END:VCALENDAR
