BEGIN:VCALENDAR
VERSION:2.0
PRODID:-//law.utexas.edu//Course Schedule//EN
CALSCALE:GREGORIAN
METHOD:PUBLISH
BEGIN:VTIMEZONE
TZID:America/Chicago
X-LIC-LOCATION:America/Chicago
BEGIN:DAYLIGHT
TZOFFSETFROM:-0600
TZOFFSETTO:-0500
TZNAME:CDT
DTSTART:19700308T020000
RRULE:FREQ=YEARLY;BYMONTH=3;BYDAY=2SU
END:DAYLIGHT
BEGIN:STANDARD
TZOFFSETFROM:-0500
TZOFFSETTO:-0600
TZNAME:CST
DTSTART:19701101T020000
RRULE:FREQ=YEARLY;BYMONTH=11;BYDAY=1SU
END:STANDARD
END:VTIMEZONE
BEGIN:VEVENT
SUMMARY:Emerging Issues in Sexuality, Gender Identity and the Law
LOCATION:TNH 3.126
DTSTART;TZID=America/Chicago:20250117T130500
DTEND;TZID=America/Chicago:20250117T161500
RRULE:FREQ=WEEKLY;BYDAY=FR;UNTIL=20250428T220000
UID:c894981b3bc4e93ac76c12170c6c9ceb
DTSTAMP:20260419T155627
DESCRIPTION:Instructors: Maddy R. Dwertman, Shelly L. Skeen
END:VEVENT
BEGIN:VEVENT
SUMMARY:Emerging Issues in Sexuality, Gender Identity and the Law
LOCATION:TNH 3.126
DTSTART;TZID=America/Chicago:20250118T090000
DTEND;TZID=America/Chicago:20250118T120000
RRULE:FREQ=WEEKLY;BYDAY=SA;UNTIL=20250428T220000
UID:23ac4c5742046f241c3c91788bc873d3
DTSTAMP:20260419T155627
DESCRIPTION:Instructors: Maddy R. Dwertman, Shelly L. Skeen
END:VEVENT
END:VCALENDAR
