BEGIN:VCALENDAR
VERSION:2.0
PRODID:-//law.utexas.edu//Course Schedule//EN
CALSCALE:GREGORIAN
METHOD:PUBLISH
BEGIN:VTIMEZONE
TZID:America/Chicago
X-LIC-LOCATION:America/Chicago
BEGIN:DAYLIGHT
TZOFFSETFROM:-0600
TZOFFSETTO:-0500
TZNAME:CDT
DTSTART:19700308T020000
RRULE:FREQ=YEARLY;BYMONTH=3;BYDAY=2SU
END:DAYLIGHT
BEGIN:STANDARD
TZOFFSETFROM:-0500
TZOFFSETTO:-0600
TZNAME:CST
DTSTART:19701101T020000
RRULE:FREQ=YEARLY;BYMONTH=11;BYDAY=1SU
END:STANDARD
END:VTIMEZONE
BEGIN:VEVENT
SUMMARY:Developments in Federal Indian Law
LOCATION:CCJ 3.306
DTSTART;TZID=America/Chicago:20250117T130500
DTEND;TZID=America/Chicago:20250117T161500
RRULE:FREQ=WEEKLY;BYDAY=FR;UNTIL=20250428T220000
UID:0226bbd4b0e2912e9e87b44f7d3ee367
DTSTAMP:20260419T143701
DESCRIPTION:Instructors: Michael Earl Urena
END:VEVENT
BEGIN:VEVENT
SUMMARY:Developments in Federal Indian Law
LOCATION:CCJ 3.306
DTSTART;TZID=America/Chicago:20250118T090000
DTEND;TZID=America/Chicago:20250118T120000
RRULE:FREQ=WEEKLY;BYDAY=SA;UNTIL=20250428T220000
UID:2f80e6644acf1e66058360a3f9810caa
DTSTAMP:20260419T143701
DESCRIPTION:Instructors: Michael Earl Urena
END:VEVENT
END:VCALENDAR
