BEGIN:VCALENDAR
VERSION:2.0
PRODID:-//law.utexas.edu//Course Schedule//EN
CALSCALE:GREGORIAN
METHOD:PUBLISH
BEGIN:VTIMEZONE
TZID:America/Chicago
X-LIC-LOCATION:America/Chicago
BEGIN:DAYLIGHT
TZOFFSETFROM:-0600
TZOFFSETTO:-0500
TZNAME:CDT
DTSTART:19700308T020000
RRULE:FREQ=YEARLY;BYMONTH=3;BYDAY=2SU
END:DAYLIGHT
BEGIN:STANDARD
TZOFFSETFROM:-0500
TZOFFSETTO:-0600
TZNAME:CST
DTSTART:19701101T020000
RRULE:FREQ=YEARLY;BYMONTH=11;BYDAY=1SU
END:STANDARD
END:VTIMEZONE
BEGIN:VEVENT
SUMMARY:The Lawyer as Advisor: Case Studies in Practical Lawyering and Counseling
LOCATION:JON 5.206
DTSTART;TZID=America/Chicago:20250116T163000
DTEND;TZID=America/Chicago:20250116T182000
RRULE:FREQ=WEEKLY;BYDAY=TH;UNTIL=20250428T220000
EXDATE;TZID=America/Chicago:20250320T163000
UID:05c644a0f5793944092f65c781f35008
DTSTAMP:20260419T184925
DESCRIPTION:Instructors: Casey Z. Thomas
END:VEVENT
END:VCALENDAR
