BEGIN:VCALENDAR
VERSION:2.0
PRODID:-//law.utexas.edu//Course Schedule//EN
CALSCALE:GREGORIAN
METHOD:PUBLISH
BEGIN:VTIMEZONE
TZID:America/Chicago
X-LIC-LOCATION:America/Chicago
BEGIN:DAYLIGHT
TZOFFSETFROM:-0600
TZOFFSETTO:-0500
TZNAME:CDT
DTSTART:19700308T020000
RRULE:FREQ=YEARLY;BYMONTH=3;BYDAY=2SU
END:DAYLIGHT
BEGIN:STANDARD
TZOFFSETFROM:-0500
TZOFFSETTO:-0600
TZNAME:CST
DTSTART:19701101T020000
RRULE:FREQ=YEARLY;BYMONTH=11;BYDAY=1SU
END:STANDARD
END:VTIMEZONE
BEGIN:VEVENT
SUMMARY:Private Equity and Venture Capital Fund Formation
LOCATION:TNH 3.127
DTSTART;TZID=America/Chicago:20250114T103000
DTEND;TZID=America/Chicago:20250114T114500
RRULE:FREQ=WEEKLY;BYDAY=TU,WE;UNTIL=20250428T220000
EXDATE;TZID=America/Chicago:20250318T103000
EXDATE;TZID=America/Chicago:20250319T103000
UID:5ec6ffae0ab16f373c041a0922f832bc
DTSTAMP:20260419T125117
DESCRIPTION:Instructors: Eliot C. Cotton
END:VEVENT
END:VCALENDAR
