BEGIN:VCALENDAR
VERSION:2.0
PRODID:-//law.utexas.edu//Course Schedule//EN
CALSCALE:GREGORIAN
METHOD:PUBLISH
BEGIN:VTIMEZONE
TZID:America/Chicago
X-LIC-LOCATION:America/Chicago
BEGIN:DAYLIGHT
TZOFFSETFROM:-0600
TZOFFSETTO:-0500
TZNAME:CDT
DTSTART:19700308T020000
RRULE:FREQ=YEARLY;BYMONTH=3;BYDAY=2SU
END:DAYLIGHT
BEGIN:STANDARD
TZOFFSETFROM:-0500
TZOFFSETTO:-0600
TZNAME:CST
DTSTART:19701101T020000
RRULE:FREQ=YEARLY;BYMONTH=11;BYDAY=1SU
END:STANDARD
END:VTIMEZONE
BEGIN:VEVENT
SUMMARY:Legal Analysis and Communication
LOCATION:TNH 3.124
DTSTART;TZID=America/Chicago:20250828T090500
DTEND;TZID=America/Chicago:20250828T101200
RRULE:FREQ=WEEKLY;BYDAY=TH;UNTIL=20251208T220000
UID:4d5dd554622fcb003e47521b3c8d019b
DTSTAMP:20260419T172913
DESCRIPTION:Instructors: Sean J. Petrie
END:VEVENT
BEGIN:VEVENT
SUMMARY:Legal Analysis and Communication
LOCATION:TNH 3.124
DTSTART;TZID=America/Chicago:20250829T103000
DTEND;TZID=America/Chicago:20250829T113700
RRULE:FREQ=WEEKLY;BYDAY=FR;UNTIL=20251208T220000
UID:accd2c45190474702c517607d978b472
DTSTAMP:20260419T172913
DESCRIPTION:Instructors: Sean J. Petrie
END:VEVENT
END:VCALENDAR
