BEGIN:VCALENDAR
VERSION:2.0
PRODID:-//law.utexas.edu//Course Schedule//EN
CALSCALE:GREGORIAN
METHOD:PUBLISH
BEGIN:VTIMEZONE
TZID:America/Chicago
X-LIC-LOCATION:America/Chicago
BEGIN:DAYLIGHT
TZOFFSETFROM:-0600
TZOFFSETTO:-0500
TZNAME:CDT
DTSTART:19700308T020000
RRULE:FREQ=YEARLY;BYMONTH=3;BYDAY=2SU
END:DAYLIGHT
BEGIN:STANDARD
TZOFFSETFROM:-0500
TZOFFSETTO:-0600
TZNAME:CST
DTSTART:19701101T020000
RRULE:FREQ=YEARLY;BYMONTH=11;BYDAY=1SU
END:STANDARD
END:VTIMEZONE
BEGIN:VEVENT
SUMMARY:Legal Analysis and Communication
LOCATION:TNH 3.124
DTSTART;TZID=America/Chicago:20250828T103000
DTEND;TZID=America/Chicago:20250828T113700
RRULE:FREQ=WEEKLY;BYDAY=TH;UNTIL=20251208T220000
UID:f103764a3f7ff63b907fb580cddf3067
DTSTAMP:20260419T223614
DESCRIPTION:Instructors: Sean J. Petrie
END:VEVENT
BEGIN:VEVENT
SUMMARY:Legal Analysis and Communication
LOCATION:TNH 3.124
DTSTART;TZID=America/Chicago:20250829T115000
DTEND;TZID=America/Chicago:20250829T125700
RRULE:FREQ=WEEKLY;BYDAY=FR;UNTIL=20251208T220000
UID:00755475e4f7afc8971b3331e372c19b
DTSTAMP:20260419T223614
DESCRIPTION:Instructors: Sean J. Petrie
END:VEVENT
END:VCALENDAR
