BEGIN:VCALENDAR
VERSION:2.0
PRODID:-//law.utexas.edu//Course Schedule//EN
CALSCALE:GREGORIAN
METHOD:PUBLISH
BEGIN:VTIMEZONE
TZID:America/Chicago
X-LIC-LOCATION:America/Chicago
BEGIN:DAYLIGHT
TZOFFSETFROM:-0600
TZOFFSETTO:-0500
TZNAME:CDT
DTSTART:19700308T020000
RRULE:FREQ=YEARLY;BYMONTH=3;BYDAY=2SU
END:DAYLIGHT
BEGIN:STANDARD
TZOFFSETFROM:-0500
TZOFFSETTO:-0600
TZNAME:CST
DTSTART:19701101T020000
RRULE:FREQ=YEARLY;BYMONTH=11;BYDAY=1SU
END:STANDARD
END:VTIMEZONE
BEGIN:VEVENT
SUMMARY:Family Law
LOCATION:JON 5.206
DTSTART;TZID=America/Chicago:20250827T090500
DTEND;TZID=America/Chicago:20250827T102000
RRULE:FREQ=WEEKLY;BYDAY=WE,TH;UNTIL=20251208T220000
UID:13b2ab8b9588ab4a7f9cf0c14e420a08
DTSTAMP:20260419T135618
DESCRIPTION:Instructors: Sean H. Williams
END:VEVENT
END:VCALENDAR
