BEGIN:VCALENDAR
VERSION:2.0
PRODID:-//law.utexas.edu//Course Schedule//EN
CALSCALE:GREGORIAN
METHOD:PUBLISH
BEGIN:VTIMEZONE
TZID:America/Chicago
X-LIC-LOCATION:America/Chicago
BEGIN:DAYLIGHT
TZOFFSETFROM:-0600
TZOFFSETTO:-0500
TZNAME:CDT
DTSTART:19700308T020000
RRULE:FREQ=YEARLY;BYMONTH=3;BYDAY=2SU
END:DAYLIGHT
BEGIN:STANDARD
TZOFFSETFROM:-0500
TZOFFSETTO:-0600
TZNAME:CST
DTSTART:19701101T020000
RRULE:FREQ=YEARLY;BYMONTH=11;BYDAY=1SU
END:STANDARD
END:VTIMEZONE
BEGIN:VEVENT
SUMMARY:Emerging Issues in Sexuality, Gender Identity and the Law
LOCATION:TNH 3.126
DTSTART;TZID=America/Chicago:20250829T130500
DTEND;TZID=America/Chicago:20250829T161500
RRULE:FREQ=WEEKLY;BYDAY=FR;UNTIL=20251208T220000
UID:6a9a2a7d9b2efd29d673deee4c0b85d4
DTSTAMP:20260420T081003
DESCRIPTION:Instructors: Maddy R. Dwertman, Shelly L. Skeen
END:VEVENT
BEGIN:VEVENT
SUMMARY:Emerging Issues in Sexuality, Gender Identity and the Law
LOCATION:TNH 3.126
DTSTART;TZID=America/Chicago:20250830T090000
DTEND;TZID=America/Chicago:20250830T120000
RRULE:FREQ=WEEKLY;BYDAY=SA;UNTIL=20251208T220000
UID:7051e015158c028ae9ebb577a647b6b0
DTSTAMP:20260420T081003
DESCRIPTION:Instructors: Maddy R. Dwertman, Shelly L. Skeen
END:VEVENT
END:VCALENDAR
