BEGIN:VCALENDAR
VERSION:2.0
PRODID:-//law.utexas.edu//Course Schedule//EN
CALSCALE:GREGORIAN
METHOD:PUBLISH
BEGIN:VTIMEZONE
TZID:America/Chicago
X-LIC-LOCATION:America/Chicago
BEGIN:DAYLIGHT
TZOFFSETFROM:-0600
TZOFFSETTO:-0500
TZNAME:CDT
DTSTART:19700308T020000
RRULE:FREQ=YEARLY;BYMONTH=3;BYDAY=2SU
END:DAYLIGHT
BEGIN:STANDARD
TZOFFSETFROM:-0500
TZOFFSETTO:-0600
TZNAME:CST
DTSTART:19701101T020000
RRULE:FREQ=YEARLY;BYMONTH=11;BYDAY=1SU
END:STANDARD
END:VTIMEZONE
BEGIN:VEVENT
SUMMARY:Commercial Leasing
LOCATION:TNH 3.126
DTSTART;TZID=America/Chicago:20250828T155500
DTEND;TZID=America/Chicago:20250828T174500
RRULE:FREQ=WEEKLY;BYDAY=TH;UNTIL=20251208T220000
UID:ddcced481ec2f4d41e64c609a2822b90
DTSTAMP:20260419T095857
DESCRIPTION:Instructors: Jill G. Murphy
END:VEVENT
END:VCALENDAR
