BEGIN:VCALENDAR
VERSION:2.0
PRODID:-//law.utexas.edu//Course Schedule//EN
CALSCALE:GREGORIAN
METHOD:PUBLISH
BEGIN:VTIMEZONE
TZID:America/Chicago
X-LIC-LOCATION:America/Chicago
BEGIN:DAYLIGHT
TZOFFSETFROM:-0600
TZOFFSETTO:-0500
TZNAME:CDT
DTSTART:19700308T020000
RRULE:FREQ=YEARLY;BYMONTH=3;BYDAY=2SU
END:DAYLIGHT
BEGIN:STANDARD
TZOFFSETFROM:-0500
TZOFFSETTO:-0600
TZNAME:CST
DTSTART:19701101T020000
RRULE:FREQ=YEARLY;BYMONTH=11;BYDAY=1SU
END:STANDARD
END:VTIMEZONE
BEGIN:VEVENT
SUMMARY:SMNR: Business Scandal and Crisis Management: Case Studies in Compliance
LOCATION:JON 6.257
DTSTART;TZID=America/Chicago:20250828T143000
DTEND;TZID=America/Chicago:20250828T162000
RRULE:FREQ=WEEKLY;BYDAY=TH;UNTIL=20251208T220000
UID:403aac823e19b3c901deb17b79fe243c
DTSTAMP:20260419T091548
DESCRIPTION:Instructors: Simon Lorne
END:VEVENT
END:VCALENDAR
