BEGIN:VCALENDAR
VERSION:2.0
PRODID:-//law.utexas.edu//Course Schedule//EN
CALSCALE:GREGORIAN
METHOD:PUBLISH
BEGIN:VTIMEZONE
TZID:America/Chicago
X-LIC-LOCATION:America/Chicago
BEGIN:DAYLIGHT
TZOFFSETFROM:-0600
TZOFFSETTO:-0500
TZNAME:CDT
DTSTART:19700308T020000
RRULE:FREQ=YEARLY;BYMONTH=3;BYDAY=2SU
END:DAYLIGHT
BEGIN:STANDARD
TZOFFSETFROM:-0500
TZOFFSETTO:-0600
TZNAME:CST
DTSTART:19701101T020000
RRULE:FREQ=YEARLY;BYMONTH=11;BYDAY=1SU
END:STANDARD
END:VTIMEZONE
BEGIN:VEVENT
SUMMARY:SMNR: Federal Criminal Prosecution and Defense, Advanced
LOCATION:TNH 3.129
DTSTART;TZID=America/Chicago:20250829T155500
DTEND;TZID=America/Chicago:20250829T174500
RRULE:FREQ=WEEKLY;BYDAY=FR;UNTIL=20251208T220000
UID:4f6598b30416a2b3eb63371f232db054
DTSTAMP:20260419T135619
DESCRIPTION:Instructors: Matt Harding, Susan R. Klein
END:VEVENT
END:VCALENDAR
