BEGIN:VCALENDAR
VERSION:2.0
PRODID:-//law.utexas.edu//Course Schedule//EN
CALSCALE:GREGORIAN
METHOD:PUBLISH
BEGIN:VTIMEZONE
TZID:America/Chicago
X-LIC-LOCATION:America/Chicago
BEGIN:DAYLIGHT
TZOFFSETFROM:-0600
TZOFFSETTO:-0500
TZNAME:CDT
DTSTART:19700308T020000
RRULE:FREQ=YEARLY;BYMONTH=3;BYDAY=2SU
END:DAYLIGHT
BEGIN:STANDARD
TZOFFSETFROM:-0500
TZOFFSETTO:-0600
TZNAME:CST
DTSTART:19701101T020000
RRULE:FREQ=YEARLY;BYMONTH=11;BYDAY=1SU
END:STANDARD
END:VTIMEZONE
BEGIN:VEVENT
SUMMARY:SMNR: Free Speech and Academic Freedom at Universities
LOCATION:TNH 3.114
DTSTART;TZID=America/Chicago:20250825T095000
DTEND;TZID=America/Chicago:20250825T114000
RRULE:FREQ=WEEKLY;BYDAY=MO;UNTIL=20251208T220000
EXDATE;TZID=America/Chicago:20250901T095000
UID:32996eb5ea1e237a20fbe76899bedd59
DTSTAMP:20260419T104530
DESCRIPTION:Instructors: David M. Rabban
END:VEVENT
END:VCALENDAR
