BEGIN:VCALENDAR
VERSION:2.0
PRODID:-//law.utexas.edu//Course Schedule//EN
CALSCALE:GREGORIAN
METHOD:PUBLISH
BEGIN:VTIMEZONE
TZID:America/Chicago
X-LIC-LOCATION:America/Chicago
BEGIN:DAYLIGHT
TZOFFSETFROM:-0600
TZOFFSETTO:-0500
TZNAME:CDT
DTSTART:19700308T020000
RRULE:FREQ=YEARLY;BYMONTH=3;BYDAY=2SU
END:DAYLIGHT
BEGIN:STANDARD
TZOFFSETFROM:-0500
TZOFFSETTO:-0600
TZNAME:CST
DTSTART:19701101T020000
RRULE:FREQ=YEARLY;BYMONTH=11;BYDAY=1SU
END:STANDARD
END:VTIMEZONE
BEGIN:VEVENT
SUMMARY:Criminal Law I
LOCATION:TNH 2.137
DTSTART;TZID=America/Chicago:20260115T130500
DTEND;TZID=America/Chicago:20260115T145500
RRULE:FREQ=WEEKLY;BYDAY=TH;UNTIL=20260427T220000
EXDATE;TZID=America/Chicago:20260319T130500
UID:38db261426d91125648972c7c4a222ba
DTSTAMP:20260419T135616
DESCRIPTION:Instructors: Graham B. Strong
END:VEVENT
BEGIN:VEVENT
SUMMARY:Criminal Law I
LOCATION:TNH 2.137
DTSTART;TZID=America/Chicago:20260116T103000
DTEND;TZID=America/Chicago:20260116T122000
RRULE:FREQ=WEEKLY;BYDAY=FR;UNTIL=20260427T220000
EXDATE;TZID=America/Chicago:20260320T103000
UID:0c91555c241af5bcbfba5b2354aee1db
DTSTAMP:20260419T135616
DESCRIPTION:Instructors: Graham B. Strong
END:VEVENT
END:VCALENDAR
