BEGIN:VCALENDAR
VERSION:2.0
PRODID:-//law.utexas.edu//Course Schedule//EN
CALSCALE:GREGORIAN
METHOD:PUBLISH
BEGIN:VTIMEZONE
TZID:America/Chicago
X-LIC-LOCATION:America/Chicago
BEGIN:DAYLIGHT
TZOFFSETFROM:-0600
TZOFFSETTO:-0500
TZNAME:CDT
DTSTART:19700308T020000
RRULE:FREQ=YEARLY;BYMONTH=3;BYDAY=2SU
END:DAYLIGHT
BEGIN:STANDARD
TZOFFSETFROM:-0500
TZOFFSETTO:-0600
TZNAME:CST
DTSTART:19701101T020000
RRULE:FREQ=YEARLY;BYMONTH=11;BYDAY=1SU
END:STANDARD
END:VTIMEZONE
BEGIN:VEVENT
SUMMARY:Persuasive Writing and Advocacy
LOCATION:TNH 2.123
DTSTART;TZID=America/Chicago:20260113T103000
DTEND;TZID=America/Chicago:20260113T113700
RRULE:FREQ=WEEKLY;BYDAY=TU;UNTIL=20260427T220000
EXDATE;TZID=America/Chicago:20260317T103000
UID:97af933d9b00e8302f0a80a0860881dd
DTSTAMP:20260419T113219
DESCRIPTION:Instructors: Lori R. Mason
END:VEVENT
BEGIN:VEVENT
SUMMARY:Persuasive Writing and Advocacy
LOCATION:TNH 2.123
DTSTART;TZID=America/Chicago:20260115T130500
DTEND;TZID=America/Chicago:20260115T141200
RRULE:FREQ=WEEKLY;BYDAY=TH;UNTIL=20260427T220000
EXDATE;TZID=America/Chicago:20260319T130500
UID:1f3d16c8aec717139fc847c414aabbcf
DTSTAMP:20260419T113219
DESCRIPTION:Instructors: Lori R. Mason
END:VEVENT
END:VCALENDAR
