BEGIN:VCALENDAR
VERSION:2.0
PRODID:-//law.utexas.edu//Course Schedule//EN
CALSCALE:GREGORIAN
METHOD:PUBLISH
BEGIN:VTIMEZONE
TZID:America/Chicago
X-LIC-LOCATION:America/Chicago
BEGIN:DAYLIGHT
TZOFFSETFROM:-0600
TZOFFSETTO:-0500
TZNAME:CDT
DTSTART:19700308T020000
RRULE:FREQ=YEARLY;BYMONTH=3;BYDAY=2SU
END:DAYLIGHT
BEGIN:STANDARD
TZOFFSETFROM:-0500
TZOFFSETTO:-0600
TZNAME:CST
DTSTART:19701101T020000
RRULE:FREQ=YEARLY;BYMONTH=11;BYDAY=1SU
END:STANDARD
END:VTIMEZONE
BEGIN:VEVENT
SUMMARY:Preparing for a Federal District Clerkship
LOCATION:TNH 3.124
DTSTART;TZID=America/Chicago:20260114T175500
DTEND;TZID=America/Chicago:20260114T194500
RRULE:FREQ=WEEKLY;BYDAY=WE;UNTIL=20260427T220000
EXDATE;TZID=America/Chicago:20260318T175500
UID:76e8fbc19ddb242766e2729c3a3abde3
DTSTAMP:20260419T143700
DESCRIPTION:Instructors: Elizabeth S. Chestney, Richard B. Farrer
END:VEVENT
END:VCALENDAR
