BEGIN:VCALENDAR
VERSION:2.0
PRODID:-//law.utexas.edu//Course Schedule//EN
CALSCALE:GREGORIAN
METHOD:PUBLISH
BEGIN:VTIMEZONE
TZID:America/Chicago
X-LIC-LOCATION:America/Chicago
BEGIN:DAYLIGHT
TZOFFSETFROM:-0600
TZOFFSETTO:-0500
TZNAME:CDT
DTSTART:19700308T020000
RRULE:FREQ=YEARLY;BYMONTH=3;BYDAY=2SU
END:DAYLIGHT
BEGIN:STANDARD
TZOFFSETFROM:-0500
TZOFFSETTO:-0600
TZNAME:CST
DTSTART:19701101T020000
RRULE:FREQ=YEARLY;BYMONTH=11;BYDAY=1SU
END:STANDARD
END:VTIMEZONE
BEGIN:VEVENT
SUMMARY:Legal Research, Advanced (AI and Conventional)
LOCATION:JON 3.222
DTSTART;TZID=America/Chicago:20260116T095000
DTEND;TZID=America/Chicago:20260116T114000
RRULE:FREQ=WEEKLY;BYDAY=FR;UNTIL=20260427T220000
EXDATE;TZID=America/Chicago:20260320T095000
UID:040f5ee7d7de0a9fb245642a2ce1b4ff
DTSTAMP:20260419T143702
DESCRIPTION:Instructors: Justin Tung
END:VEVENT
END:VCALENDAR
