BEGIN:VCALENDAR
VERSION:2.0
PRODID:-//law.utexas.edu//Course Schedule//EN
CALSCALE:GREGORIAN
METHOD:PUBLISH
BEGIN:VTIMEZONE
TZID:America/Chicago
X-LIC-LOCATION:America/Chicago
BEGIN:DAYLIGHT
TZOFFSETFROM:-0600
TZOFFSETTO:-0500
TZNAME:CDT
DTSTART:19700308T020000
RRULE:FREQ=YEARLY;BYMONTH=3;BYDAY=2SU
END:DAYLIGHT
BEGIN:STANDARD
TZOFFSETFROM:-0500
TZOFFSETTO:-0600
TZNAME:CST
DTSTART:19701101T020000
RRULE:FREQ=YEARLY;BYMONTH=11;BYDAY=1SU
END:STANDARD
END:VTIMEZONE
BEGIN:VEVENT
SUMMARY:National Security Law: Counterterrorism
LOCATION:TNH 2.124
DTSTART;TZID=America/Chicago:20260112T143000
DTEND;TZID=America/Chicago:20260112T154500
RRULE:FREQ=WEEKLY;BYDAY=MO,WE;UNTIL=20260427T220000
EXDATE;TZID=America/Chicago:20260316T143000
EXDATE;TZID=America/Chicago:20260318T143000
UID:547e4942f290f78bf2ccbcf75677e5a0
DTSTAMP:20260419T151843
DESCRIPTION:Instructors: Adam I. Klein
END:VEVENT
END:VCALENDAR
