BEGIN:VCALENDAR
VERSION:2.0
PRODID:-//law.utexas.edu//Course Schedule//EN
CALSCALE:GREGORIAN
METHOD:PUBLISH
BEGIN:VTIMEZONE
TZID:America/Chicago
X-LIC-LOCATION:America/Chicago
BEGIN:DAYLIGHT
TZOFFSETFROM:-0600
TZOFFSETTO:-0500
TZNAME:CDT
DTSTART:19700308T020000
RRULE:FREQ=YEARLY;BYMONTH=3;BYDAY=2SU
END:DAYLIGHT
BEGIN:STANDARD
TZOFFSETFROM:-0500
TZOFFSETTO:-0600
TZNAME:CST
DTSTART:19701101T020000
RRULE:FREQ=YEARLY;BYMONTH=11;BYDAY=1SU
END:STANDARD
END:VTIMEZONE
BEGIN:VEVENT
SUMMARY:Energy Law: Regulating Energy Markets
LOCATION:TNH 3.142
DTSTART;TZID=America/Chicago:20260113T090500
DTEND;TZID=America/Chicago:20260113T102000
RRULE:FREQ=WEEKLY;BYDAY=TU,TH;UNTIL=20260427T220000
EXDATE;TZID=America/Chicago:20260317T090500
EXDATE;TZID=America/Chicago:20260319T090500
UID:409fede1c63be478c85afcc11fbe2bb7
DTSTAMP:20260419T085319
DESCRIPTION:Instructors: David B. Spence
END:VEVENT
END:VCALENDAR
