BEGIN:VCALENDAR
VERSION:2.0
PRODID:-//law.utexas.edu//Course Schedule//EN
CALSCALE:GREGORIAN
METHOD:PUBLISH
BEGIN:VTIMEZONE
TZID:America/Chicago
X-LIC-LOCATION:America/Chicago
BEGIN:DAYLIGHT
TZOFFSETFROM:-0600
TZOFFSETTO:-0500
TZNAME:CDT
DTSTART:19700308T020000
RRULE:FREQ=YEARLY;BYMONTH=3;BYDAY=2SU
END:DAYLIGHT
BEGIN:STANDARD
TZOFFSETFROM:-0500
TZOFFSETTO:-0600
TZNAME:CST
DTSTART:19701101T020000
RRULE:FREQ=YEARLY;BYMONTH=11;BYDAY=1SU
END:STANDARD
END:VTIMEZONE
BEGIN:VEVENT
SUMMARY:Developments in Federal Indian Law
LOCATION:TNH 3.129
DTSTART;TZID=America/Chicago:20260116T130500
DTEND;TZID=America/Chicago:20260116T161500
RRULE:FREQ=WEEKLY;BYDAY=FR;UNTIL=20260427T220000
EXDATE;TZID=America/Chicago:20260320T130500
UID:d1d485fa32e570d81200faa4f687592a
DTSTAMP:20260419T131641
DESCRIPTION:Instructors: Michael Earl Urena
END:VEVENT
BEGIN:VEVENT
SUMMARY:Developments in Federal Indian Law
LOCATION:TNH 3.129
DTSTART;TZID=America/Chicago:20260117T090000
DTEND;TZID=America/Chicago:20260117T120000
RRULE:FREQ=WEEKLY;BYDAY=SA;UNTIL=20260427T220000
UID:7ad533adf0fc481276ab580050865ac9
DTSTAMP:20260419T131641
DESCRIPTION:Instructors: Michael Earl Urena
END:VEVENT
END:VCALENDAR
