BEGIN:VCALENDAR
VERSION:2.0
PRODID:-//law.utexas.edu//Course Schedule//EN
CALSCALE:GREGORIAN
METHOD:PUBLISH
BEGIN:VTIMEZONE
TZID:America/Chicago
X-LIC-LOCATION:America/Chicago
BEGIN:DAYLIGHT
TZOFFSETFROM:-0600
TZOFFSETTO:-0500
TZNAME:CDT
DTSTART:19700308T020000
RRULE:FREQ=YEARLY;BYMONTH=3;BYDAY=2SU
END:DAYLIGHT
BEGIN:STANDARD
TZOFFSETFROM:-0500
TZOFFSETTO:-0600
TZNAME:CST
DTSTART:19701101T020000
RRULE:FREQ=YEARLY;BYMONTH=11;BYDAY=1SU
END:STANDARD
END:VTIMEZONE
BEGIN:VEVENT
SUMMARY:Disability Law
LOCATION:JON 6.207
DTSTART;TZID=America/Chicago:20260115T095000
DTEND;TZID=America/Chicago:20260115T114000
RRULE:FREQ=WEEKLY;BYDAY=TH;UNTIL=20260427T220000
EXDATE;TZID=America/Chicago:20260319T095000
UID:37051a093a032bd2961b31305b907ff6
DTSTAMP:20260419T095838
DESCRIPTION:Instructors: Brian East
END:VEVENT
END:VCALENDAR
