BEGIN:VCALENDAR
VERSION:2.0
PRODID:-//law.utexas.edu//Course Schedule//EN
CALSCALE:GREGORIAN
METHOD:PUBLISH
BEGIN:VTIMEZONE
TZID:America/Chicago
X-LIC-LOCATION:America/Chicago
BEGIN:DAYLIGHT
TZOFFSETFROM:-0600
TZOFFSETTO:-0500
TZNAME:CDT
DTSTART:19700308T020000
RRULE:FREQ=YEARLY;BYMONTH=3;BYDAY=2SU
END:DAYLIGHT
BEGIN:STANDARD
TZOFFSETFROM:-0500
TZOFFSETTO:-0600
TZNAME:CST
DTSTART:19701101T020000
RRULE:FREQ=YEARLY;BYMONTH=11;BYDAY=1SU
END:STANDARD
END:VTIMEZONE
BEGIN:VEVENT
SUMMARY:Financial Products: Personal and Regulatory Strategies
LOCATION:TNH 2.124
DTSTART;TZID=America/Chicago:20260113T130500
DTEND;TZID=America/Chicago:20260113T135500
RRULE:FREQ=WEEKLY;BYDAY=TU,WE;UNTIL=20260427T220000
EXDATE;TZID=America/Chicago:20260317T130500
EXDATE;TZID=America/Chicago:20260318T130500
UID:2dfc0be466d95a9028ba5cae67fee9f1
DTSTAMP:20260419T122846
DESCRIPTION:Instructors: Henry T. C. Hu
END:VEVENT
END:VCALENDAR
