BEGIN:VCALENDAR
VERSION:2.0
PRODID:-//law.utexas.edu//Course Schedule//EN
CALSCALE:GREGORIAN
METHOD:PUBLISH
BEGIN:VTIMEZONE
TZID:America/Chicago
X-LIC-LOCATION:America/Chicago
BEGIN:DAYLIGHT
TZOFFSETFROM:-0600
TZOFFSETTO:-0500
TZNAME:CDT
DTSTART:19700308T020000
RRULE:FREQ=YEARLY;BYMONTH=3;BYDAY=2SU
END:DAYLIGHT
BEGIN:STANDARD
TZOFFSETFROM:-0500
TZOFFSETTO:-0600
TZNAME:CST
DTSTART:19701101T020000
RRULE:FREQ=YEARLY;BYMONTH=11;BYDAY=1SU
END:STANDARD
END:VTIMEZONE
BEGIN:VEVENT
SUMMARY:Music Law: Contract Negotiation and AI
LOCATION:JON 6.206
DTSTART;TZID=America/Chicago:20260112T155500
DTEND;TZID=America/Chicago:20260112T174500
RRULE:FREQ=WEEKLY;BYDAY=MO;UNTIL=20260427T220000
EXDATE;TZID=America/Chicago:20260316T155500
UID:e2af7dfa5e909dcd24e026704f077084
DTSTAMP:20260419T152646
DESCRIPTION:Instructors: Christian L. Castle
END:VEVENT
END:VCALENDAR
