BEGIN:VCALENDAR
VERSION:2.0
PRODID:-//law.utexas.edu//Course Schedule//EN
CALSCALE:GREGORIAN
METHOD:PUBLISH
BEGIN:VTIMEZONE
TZID:America/Chicago
X-LIC-LOCATION:America/Chicago
BEGIN:DAYLIGHT
TZOFFSETFROM:-0600
TZOFFSETTO:-0500
TZNAME:CDT
DTSTART:19700308T020000
RRULE:FREQ=YEARLY;BYMONTH=3;BYDAY=2SU
END:DAYLIGHT
BEGIN:STANDARD
TZOFFSETFROM:-0500
TZOFFSETTO:-0600
TZNAME:CST
DTSTART:19701101T020000
RRULE:FREQ=YEARLY;BYMONTH=11;BYDAY=1SU
END:STANDARD
END:VTIMEZONE
BEGIN:VEVENT
SUMMARY:Internship: Prosecution
LOCATION:TNH 3.140
DTSTART;TZID=America/Chicago:20260113T175500
DTEND;TZID=America/Chicago:20260113T192500
RRULE:FREQ=WEEKLY;BYDAY=TU;UNTIL=20260427T220000
EXDATE;TZID=America/Chicago:20260317T175500
UID:f7c4de53c6eebddc8297fdf7595eb907
DTSTAMP:20260419T115140
DESCRIPTION:Instructors: Erik A. Nielsen, Robert N. Kepple
END:VEVENT
END:VCALENDAR
