BEGIN:VCALENDAR
VERSION:2.0
PRODID:-//law.utexas.edu//Course Schedule//EN
CALSCALE:GREGORIAN
METHOD:PUBLISH
BEGIN:VTIMEZONE
TZID:America/Chicago
X-LIC-LOCATION:America/Chicago
BEGIN:DAYLIGHT
TZOFFSETFROM:-0600
TZOFFSETTO:-0500
TZNAME:CDT
DTSTART:19700308T020000
RRULE:FREQ=YEARLY;BYMONTH=3;BYDAY=2SU
END:DAYLIGHT
BEGIN:STANDARD
TZOFFSETFROM:-0500
TZOFFSETTO:-0600
TZNAME:CST
DTSTART:19701101T020000
RRULE:FREQ=YEARLY;BYMONTH=11;BYDAY=1SU
END:STANDARD
END:VTIMEZONE
BEGIN:VEVENT
SUMMARY:Civil Procedure
LOCATION:TNH 2.139
DTSTART;TZID=America/Chicago:20260824T090500
DTEND;TZID=America/Chicago:20260824T101200
RRULE:FREQ=WEEKLY;BYDAY=MO,TU;UNTIL=20261207T220000
EXDATE;TZID=America/Chicago:20260907T090500
UID:2fa2b234af5111a096ea5e70585151dd
DTSTAMP:20260420T100912
DESCRIPTION:Instructors: Linda S. Mullenix
END:VEVENT
BEGIN:VEVENT
SUMMARY:Civil Procedure
LOCATION:TNH 2.139
DTSTART;TZID=America/Chicago:20260826T083000
DTEND;TZID=America/Chicago:20260826T093700
RRULE:FREQ=WEEKLY;BYDAY=WE;UNTIL=20261207T220000
UID:f58a84d82d26076392053d18bf1652c4
DTSTAMP:20260420T100912
DESCRIPTION:Instructors: Linda S. Mullenix
END:VEVENT
END:VCALENDAR
