BEGIN:VCALENDAR
VERSION:2.0
PRODID:-//law.utexas.edu//Course Schedule//EN
CALSCALE:GREGORIAN
METHOD:PUBLISH
BEGIN:VTIMEZONE
TZID:America/Chicago
X-LIC-LOCATION:America/Chicago
BEGIN:DAYLIGHT
TZOFFSETFROM:-0600
TZOFFSETTO:-0500
TZNAME:CDT
DTSTART:19700308T020000
RRULE:FREQ=YEARLY;BYMONTH=3;BYDAY=2SU
END:DAYLIGHT
BEGIN:STANDARD
TZOFFSETFROM:-0500
TZOFFSETTO:-0600
TZNAME:CST
DTSTART:19701101T020000
RRULE:FREQ=YEARLY;BYMONTH=11;BYDAY=1SU
END:STANDARD
END:VTIMEZONE
BEGIN:VEVENT
SUMMARY:Civil Procedure
LOCATION:TNH 2.123
DTSTART;TZID=America/Chicago:20260825T103000
DTEND;TZID=America/Chicago:20260825T113700
RRULE:FREQ=WEEKLY;BYDAY=TU,WE,TH;UNTIL=20261207T220000
UID:d0ca665e8bb9abcce2cbcb45b7f3ad1e
DTSTAMP:20260420T100855
DESCRIPTION:Instructors: Charles M. Silver
END:VEVENT
END:VCALENDAR
