BEGIN:VCALENDAR
VERSION:2.0
PRODID:-//law.utexas.edu//Course Schedule//EN
CALSCALE:GREGORIAN
METHOD:PUBLISH
BEGIN:VTIMEZONE
TZID:America/Chicago
X-LIC-LOCATION:America/Chicago
BEGIN:DAYLIGHT
TZOFFSETFROM:-0600
TZOFFSETTO:-0500
TZNAME:CDT
DTSTART:19700308T020000
RRULE:FREQ=YEARLY;BYMONTH=3;BYDAY=2SU
END:DAYLIGHT
BEGIN:STANDARD
TZOFFSETFROM:-0500
TZOFFSETTO:-0600
TZNAME:CST
DTSTART:19701101T020000
RRULE:FREQ=YEARLY;BYMONTH=11;BYDAY=1SU
END:STANDARD
END:VTIMEZONE
BEGIN:VEVENT
SUMMARY:Alternative Dispute Resolution
LOCATION:TNH 3.140
DTSTART;TZID=America/Chicago:20260825T143000
DTEND;TZID=America/Chicago:20260825T170000
RRULE:FREQ=WEEKLY;BYDAY=TU;UNTIL=20261207T220000
UID:bf6b1465344a7068cc47928720a87b7d
DTSTAMP:20260420T095934
DESCRIPTION:Instructors: Sara E. Saltmarsh
END:VEVENT
END:VCALENDAR
