BEGIN:VCALENDAR
VERSION:2.0
PRODID:-//law.utexas.edu//Course Schedule//EN
CALSCALE:GREGORIAN
METHOD:PUBLISH
BEGIN:VTIMEZONE
TZID:America/Chicago
X-LIC-LOCATION:America/Chicago
BEGIN:DAYLIGHT
TZOFFSETFROM:-0600
TZOFFSETTO:-0500
TZNAME:CDT
DTSTART:19700308T020000
RRULE:FREQ=YEARLY;BYMONTH=3;BYDAY=2SU
END:DAYLIGHT
BEGIN:STANDARD
TZOFFSETFROM:-0500
TZOFFSETTO:-0600
TZNAME:CST
DTSTART:19701101T020000
RRULE:FREQ=YEARLY;BYMONTH=11;BYDAY=1SU
END:STANDARD
END:VTIMEZONE
BEGIN:VEVENT
SUMMARY:Advanced Legal Writing
LOCATION:TNH 3.140
DTSTART;TZID=America/Chicago:20260824T103000
DTEND;TZID=America/Chicago:20260824T112000
RRULE:FREQ=WEEKLY;BYDAY=MO,WE;UNTIL=20261207T220000
EXDATE;TZID=America/Chicago:20260907T103000
UID:7713a9df1eeddb2f34d965d43b053553
DTSTAMP:20260420T095933
DESCRIPTION:Instructors: Dominic H. Gattuso
END:VEVENT
END:VCALENDAR
