BEGIN:VCALENDAR
VERSION:2.0
PRODID:-//law.utexas.edu//Course Schedule//EN
CALSCALE:GREGORIAN
METHOD:PUBLISH
BEGIN:VTIMEZONE
TZID:America/Chicago
X-LIC-LOCATION:America/Chicago
BEGIN:DAYLIGHT
TZOFFSETFROM:-0600
TZOFFSETTO:-0500
TZNAME:CDT
DTSTART:19700308T020000
RRULE:FREQ=YEARLY;BYMONTH=3;BYDAY=2SU
END:DAYLIGHT
BEGIN:STANDARD
TZOFFSETFROM:-0500
TZOFFSETTO:-0600
TZNAME:CST
DTSTART:19701101T020000
RRULE:FREQ=YEARLY;BYMONTH=11;BYDAY=1SU
END:STANDARD
END:VTIMEZONE
BEGIN:VEVENT
SUMMARY:Business Scandal and Crisis Management: Case Studies in Compliance
LOCATION:TNH 3.127
DTSTART;TZID=America/Chicago:20260827T155500
DTEND;TZID=America/Chicago:20260827T174500
RRULE:FREQ=WEEKLY;BYDAY=TH;UNTIL=20261207T220000
UID:9cf6c4f202cf5437b04171c81b1646db
DTSTAMP:20260420T102851
DESCRIPTION:Instructors: Simon Lorne
END:VEVENT
END:VCALENDAR
