BEGIN:VCALENDAR
VERSION:2.0
PRODID:-//law.utexas.edu//Course Schedule//EN
CALSCALE:GREGORIAN
METHOD:PUBLISH
BEGIN:VTIMEZONE
TZID:America/Chicago
X-LIC-LOCATION:America/Chicago
BEGIN:DAYLIGHT
TZOFFSETFROM:-0600
TZOFFSETTO:-0500
TZNAME:CDT
DTSTART:19700308T020000
RRULE:FREQ=YEARLY;BYMONTH=3;BYDAY=2SU
END:DAYLIGHT
BEGIN:STANDARD
TZOFFSETFROM:-0500
TZOFFSETTO:-0600
TZNAME:CST
DTSTART:19701101T020000
RRULE:FREQ=YEARLY;BYMONTH=11;BYDAY=1SU
END:STANDARD
END:VTIMEZONE
BEGIN:VEVENT
SUMMARY:Agenda Setting in the U.S. Supreme Court and Legal Institutions
LOCATION:TNH 3.129
DTSTART;TZID=America/Chicago:20260826T155500
DTEND;TZID=America/Chicago:20260826T174500
RRULE:FREQ=WEEKLY;BYDAY=WE;UNTIL=20261207T220000
UID:000cc62803423928bf89e6946f8fe9f9
DTSTAMP:20260420T100842
DESCRIPTION:Instructors: H. W. Perry Jr
END:VEVENT
END:VCALENDAR
