BEGIN:VCALENDAR
VERSION:2.0
PRODID:-//UNIVERSITY OF TEXAS SCHOOL OF LAW//NONSGML Events Calendar v1.0//EN
X-WR-TIMEZONE:America/Chicago
BEGIN:VTIMEZONE
TZID:US/Central
X-LIC-LOCATION:America/Chicago
BEGIN:DAYLIGHT
TZOFFSETFROM:-0600
TZOFFSETTO:-0500
TZNAME:CDT
DTSTART:19700308T020000
RRULE:FREQ=YEARLY;BYMONTH=3;BYDAY=2SU
END:DAYLIGHT
BEGIN:STANDARD
TZOFFSETFROM:-0500
TZOFFSETTO:-0600
TZNAME:CST
DTSTART:19701101T020000
RRULE:FREQ=YEARLY;BYMONTH=11;BYDAY=1SU
END:STANDARD
END:VTIMEZONE
BEGIN:VEVENT
DTSTART;TZID=US/Central:20151201T120000


DTSTAMP:20260419T150100Z
CREATED:20151120T225400Z
LAST-MODIFIED:20151120T230100Z
UID:20151201T120000-21540@law.utexas.edu
SUMMARY:PSCF Registration Opens
DESCRIPTION:<p>Hosted annually at Texas Law, Public Service Career Fair (PSCF) is the largest public service interview program for law students in Texas. During both days of PSCF, public interest and government employers will conduct on-campus interviews for paid and unpaid summer and permanent positions.</p>
  <p>1Ls, 2Ls, 3Ls, domestic and foreign-trained LL.M.s, and recent graduates (up to one year after graduation) from all nine accredited Texas law schools are eligible to participate in this program.</p>
  <p>You must register for Public Service Career Fair if you are interested in participating this upcoming year. Instructions on how to register can be found at: <a href="https://law.utexas.edu/career/interview-programs/public-service-career-fair/">https://law.utexas.edu/career/interview-programs/public-service-career-fair/</a> .</p>
  <p>Registration begins at December 1, 2015, at 12 p.m. CT and ends December 18, 2015 at 5 p.m. CT.</p>\n\nIf you need an accommodation to participate in this event, please contact the event sponsor or the Texas Law Special Events Office at specialevents@law.utexas.edu no later than seven business days prior to the event.
X-ALT-DESC;FMTTYPE=text/html:<p>Hosted annually at Texas Law, Public Service Career Fair (PSCF) is the largest public service interview program for law students in Texas. During both days of PSCF, public interest and government employers will conduct on-campus interviews for paid and unpaid summer and permanent positions.</p>
  <p>1Ls, 2Ls, 3Ls, domestic and foreign-trained LL.M.s, and recent graduates (up to one year after graduation) from all nine accredited Texas law schools are eligible to participate in this program.</p>
  <p>You must register for Public Service Career Fair if you are interested in participating this upcoming year. Instructions on how to register can be found at: <a href="https://law.utexas.edu/career/interview-programs/public-service-career-fair/">https://law.utexas.edu/career/interview-programs/public-service-career-fair/</a> .</p>
  <p>Registration begins at December 1, 2015, at 12 p.m. CT and ends December 18, 2015 at 5 p.m. CT.</p><p>If you need an accommodation to participate in this event, please contact the event
                                          event sponsor or the Texas Law Special Events Office at <a href="mailto:specialevents@law.utexas.edu">specialevents@law.utexas.edu</a> no later than seven business days prior to the event.</p>
CATEGORIES:Interview Program

URL:http://law.utexas.edu/calendar/2015/12/01/21540/
CLASS:PUBLIC
STATUS:CONFIRMED
COMMENT:Please contact Alisha Camacho, Events Specialist, at 512-232-1151 or <a href="mailto:acamacho@law.utexas.edu">acamacho@law.utexas.edu</a>.
END:VEVENT
END:VCALENDAR