BEGIN:VCALENDAR
VERSION:2.0
PRODID:-//UNIVERSITY OF TEXAS SCHOOL OF LAW//NONSGML Events Calendar v1.0//EN
X-WR-TIMEZONE:America/Chicago
BEGIN:VTIMEZONE
TZID:US/Central
X-LIC-LOCATION:America/Chicago
BEGIN:DAYLIGHT
TZOFFSETFROM:-0600
TZOFFSETTO:-0500
TZNAME:CDT
DTSTART:19700308T020000
RRULE:FREQ=YEARLY;BYMONTH=3;BYDAY=2SU
END:DAYLIGHT
BEGIN:STANDARD
TZOFFSETFROM:-0500
TZOFFSETTO:-0600
TZNAME:CST
DTSTART:19701101T020000
RRULE:FREQ=YEARLY;BYMONTH=11;BYDAY=1SU
END:STANDARD
END:VTIMEZONE
BEGIN:VEVENT
DTSTART;TZID=US/Central:20160104T120000


DTSTAMP:20260419T150300Z
CREATED:20160104T163300Z
LAST-MODIFIED:20160104T163300Z
UID:20160104T120000-21689@law.utexas.edu
SUMMARY:Mock Interviews - 1L Sign Up Begins
DESCRIPTION:<p>Each spring the CSO conducts the <a href="https://law.utexas.edu/career/interview-programs/mock-interview-program/">Mock Interview Program</a> for 1Ls (as well as 2Ls &amp; 3Ls if space permits) to practice interviewing with actual attorneys prior to Public Service Career Fair and Spring OCI.</p>
  <p>1Ls may begin scheduling one interview today at noon. <strong>Scheduling is a on a first-come, first-served basis.</strong></p>
  <p>If interview slots remain available, the CSO will notify 2Ls and 3Ls that they may register as well.
  </p>\n\nIf you need an accommodation to participate in this event, please contact the event sponsor or the Texas Law Special Events Office at specialevents@law.utexas.edu no later than seven business days prior to the event.
X-ALT-DESC;FMTTYPE=text/html:<p>Each spring the CSO conducts the <a href="https://law.utexas.edu/career/interview-programs/mock-interview-program/">Mock Interview Program</a> for 1Ls (as well as 2Ls &amp; 3Ls if space permits) to practice interviewing with actual attorneys prior to Public Service Career Fair and Spring OCI.</p>
  <p>1Ls may begin scheduling one interview today at noon. <strong>Scheduling is a on a first-come, first-served basis.</strong></p>
  <p>If interview slots remain available, the CSO will notify 2Ls and 3Ls that they may register as well.
  </p><p>If you need an accommodation to participate in this event, please contact the event
                                          event sponsor or the Texas Law Special Events Office at <a href="mailto:specialevents@law.utexas.edu">specialevents@law.utexas.edu</a> no later than seven business days prior to the event.</p>
CATEGORIES:Interview Program

URL:http://law.utexas.edu/calendar/2016/01/04/21689/
CLASS:PUBLIC
STATUS:CONFIRMED
COMMENT:Please contact Sandra Puga, On-Campus Interview Coordinator, at 512-232-1161 or <a href="mailto:spuga@law.utexas.edu">spuga@law.utexas.edu</a>.
END:VEVENT
END:VCALENDAR