BEGIN:VCALENDAR
VERSION:2.0
PRODID:-//UNIVERSITY OF TEXAS SCHOOL OF LAW//NONSGML Events Calendar v1.0//EN
X-WR-TIMEZONE:America/Chicago
BEGIN:VTIMEZONE
TZID:US/Central
X-LIC-LOCATION:America/Chicago
BEGIN:DAYLIGHT
TZOFFSETFROM:-0600
TZOFFSETTO:-0500
TZNAME:CDT
DTSTART:19700308T020000
RRULE:FREQ=YEARLY;BYMONTH=3;BYDAY=2SU
END:DAYLIGHT
BEGIN:STANDARD
TZOFFSETFROM:-0500
TZOFFSETTO:-0600
TZNAME:CST
DTSTART:19701101T020000
RRULE:FREQ=YEARLY;BYMONTH=11;BYDAY=1SU
END:STANDARD
END:VTIMEZONE
BEGIN:VEVENT
DTSTART;TZID=US/Central:20170309T114500
DTEND;VALUE=DATE-TIME;TZID=US/Central:20170309T124500

DTSTAMP:20260420T130100Z
CREATED:20170221T165300Z
LAST-MODIFIED:20170228T152400Z
UID:20170309T114500-29166@law.utexas.edu
SUMMARY:Careers in Environmental Law
DESCRIPTION:<p>Environmental law is a growing field that covers many different issues and career paths. Come learn more about environmental law from practitioners in the public interest, private, and government sectors. Panelists include Kristen Fancher, Law Offices of Kristen Fancher, PLLC; Vic Ramirez, <a href="http://www.lcra.org/Pages/default.aspx">Lower Colorado River Authority</a>; Booker Harrison, <a href="http://tceq.state.tx.us/">Texas Commission on Environmental Quality</a>; and Kari Potts, ’99,  In-House Counsel, <a href="https://www.statoil.com/">StatOil</a>. Sponsored by the <a href="http://www.texenrls.org/">State Bar of Texas Environmental and Natural Resources Law Section</a>, the <a href="http://www.utlawels.org/">Environmental Law Society</a>, and the <a href="https://law.utexas.edu/publications/journals/texas-environmental-law-journal/">Environmental Law Journal.</a></p>
  <p>Lunch will be served. Please RSVP by Wednesday, March 8, on <a href="https://law-utexas-csm.symplicity.com/students/">Symplicity</a> by selecting the 'Events' tab. Lunch will be served. </p>\n\nIf you need an accommodation to participate in this event, please contact the event sponsor or the Texas Law Special Events Office at specialevents@law.utexas.edu no later than seven business days prior to the event.
X-ALT-DESC;FMTTYPE=text/html:<p>Environmental law is a growing field that covers many different issues and career paths. Come learn more about environmental law from practitioners in the public interest, private, and government sectors. Panelists include Kristen Fancher, Law Offices of Kristen Fancher, PLLC; Vic Ramirez, <a href="http://www.lcra.org/Pages/default.aspx">Lower Colorado River Authority</a>; Booker Harrison, <a href="http://tceq.state.tx.us/">Texas Commission on Environmental Quality</a>; and Kari Potts, ’99,  In-House Counsel, <a href="https://www.statoil.com/">StatOil</a>. Sponsored by the <a href="http://www.texenrls.org/">State Bar of Texas Environmental and Natural Resources Law Section</a>, the <a href="http://www.utlawels.org/">Environmental Law Society</a>, and the <a href="https://law.utexas.edu/publications/journals/texas-environmental-law-journal/">Environmental Law Journal.</a></p>
  <p>Lunch will be served. Please RSVP by Wednesday, March 8, on <a href="https://law-utexas-csm.symplicity.com/students/">Symplicity</a> by selecting the 'Events' tab. Lunch will be served. </p><p>If you need an accommodation to participate in this event, please contact the event
                                          event sponsor or the Texas Law Special Events Office at <a href="mailto:specialevents@law.utexas.edu">specialevents@law.utexas.edu</a> no later than seven business days prior to the event.</p>
CATEGORIES:Workshop / Training Program
LOCATION:TNH 3.140 - Jeffers Courtroom
URL:http://law.utexas.edu/calendar/2017/03/09/29166/
CLASS:PUBLIC
STATUS:CONFIRMED
COMMENT:Please contact Simone Leavenworth, Career Counselor, at 512-232-1157 or <a href="mailto:sleavenworth@law.utexas.edu">sleavenworth@law.utexas.edu</a>.
END:VEVENT
END:VCALENDAR