BEGIN:VCALENDAR
VERSION:2.0
PRODID:-//UNIVERSITY OF TEXAS SCHOOL OF LAW//NONSGML Events Calendar v1.0//EN
X-WR-TIMEZONE:America/Chicago
BEGIN:VTIMEZONE
TZID:US/Central
X-LIC-LOCATION:America/Chicago
BEGIN:DAYLIGHT
TZOFFSETFROM:-0600
TZOFFSETTO:-0500
TZNAME:CDT
DTSTART:19700308T020000
RRULE:FREQ=YEARLY;BYMONTH=3;BYDAY=2SU
END:DAYLIGHT
BEGIN:STANDARD
TZOFFSETFROM:-0500
TZOFFSETTO:-0600
TZNAME:CST
DTSTART:19701101T020000
RRULE:FREQ=YEARLY;BYMONTH=11;BYDAY=1SU
END:STANDARD
END:VTIMEZONE
BEGIN:VEVENT
DTSTART;TZID=US/Central:20170323T114500
DTEND;VALUE=DATE-TIME;TZID=US/Central:20170323T124500

DTSTAMP:20260420T130900Z
CREATED:20161115T201200Z
LAST-MODIFIED:20170314T143900Z
UID:20170323T114500-27025@law.utexas.edu
SUMMARY:Business of Agencies/Organizations
DESCRIPTION:<p>Learn about grant and private funding, government budgets and appropriations, and how funding and administration can affect the work of an organization or agency. Panelists include Bill Beardall, Executive Director, <a href="http://www.equaljusticecenter.org/welcome.html">Equal Justice Center</a>; Amanda Crawford, Deputy Attorney General for Administration and General Counsel, <a href="https://texasattorneygeneral.gov/">Office of the Texas Attorney General</a>; Sabine Romero, Acting Chief Administrative Officer, <a href="http://www.austintexas.gov/department/about-innovation-office">City of Austin - Office of Innovation</a>; and Jonathan Vickery, Associate Director, <a href="http://www.teajf.org/index.aspx">Texas Access to Justice Foundation</a>. Moderated by Andrea Marsh, Director, <a href="https://law.utexas.edu/probono/about/richard-and-ginni-mithoff/">Richard &amp; Ginni Mithoff Pro Bono Program </a>at Texas Law.</p>
  <p><a href="https://law.utexas.edu/career/texas-law-professional-development-institute/texas-law-professional-development-institute-registration/">RSVP online by TUESDAY, MARCH 21.</a></p>\n\nIf you need an accommodation to participate in this event, please contact the event sponsor or the Texas Law Special Events Office at specialevents@law.utexas.edu no later than seven business days prior to the event.
X-ALT-DESC;FMTTYPE=text/html:<p>Learn about grant and private funding, government budgets and appropriations, and how funding and administration can affect the work of an organization or agency. Panelists include Bill Beardall, Executive Director, <a href="http://www.equaljusticecenter.org/welcome.html">Equal Justice Center</a>; Amanda Crawford, Deputy Attorney General for Administration and General Counsel, <a href="https://texasattorneygeneral.gov/">Office of the Texas Attorney General</a>; Sabine Romero, Acting Chief Administrative Officer, <a href="http://www.austintexas.gov/department/about-innovation-office">City of Austin - Office of Innovation</a>; and Jonathan Vickery, Associate Director, <a href="http://www.teajf.org/index.aspx">Texas Access to Justice Foundation</a>. Moderated by Andrea Marsh, Director, <a href="https://law.utexas.edu/probono/about/richard-and-ginni-mithoff/">Richard &amp; Ginni Mithoff Pro Bono Program </a>at Texas Law.</p>
  <p><a href="https://law.utexas.edu/career/texas-law-professional-development-institute/texas-law-professional-development-institute-registration/">RSVP online by TUESDAY, MARCH 21.</a></p><p>If you need an accommodation to participate in this event, please contact the event
                                          event sponsor or the Texas Law Special Events Office at <a href="mailto:specialevents@law.utexas.edu">specialevents@law.utexas.edu</a> no later than seven business days prior to the event.</p>
CATEGORIES:Workshop / Training Program
LOCATION:CCJ 2.306 - Eidman Courtroom
URL:http://law.utexas.edu/calendar/2017/03/23/27025/
CLASS:PUBLIC
STATUS:CONFIRMED
COMMENT:Please contact Nicole Simmons, Director of Public Service Programs, at 512-232-1160 or <a href="mailto:nsimmons@law.utexas.edu">nsimmons@law.utexas.edu</a>.
END:VEVENT
END:VCALENDAR