BEGIN:VCALENDAR
VERSION:2.0
PRODID:-//UNIVERSITY OF TEXAS SCHOOL OF LAW//NONSGML Events Calendar v1.0//EN
X-WR-TIMEZONE:America/Chicago
BEGIN:VTIMEZONE
TZID:US/Central
X-LIC-LOCATION:America/Chicago
BEGIN:DAYLIGHT
TZOFFSETFROM:-0600
TZOFFSETTO:-0500
TZNAME:CDT
DTSTART:19700308T020000
RRULE:FREQ=YEARLY;BYMONTH=3;BYDAY=2SU
END:DAYLIGHT
BEGIN:STANDARD
TZOFFSETFROM:-0500
TZOFFSETTO:-0600
TZNAME:CST
DTSTART:19701101T020000
RRULE:FREQ=YEARLY;BYMONTH=11;BYDAY=1SU
END:STANDARD
END:VTIMEZONE
BEGIN:VEVENT
DTSTART;TZID=US/Central:20170619T120000


DTSTAMP:20260420T071100Z
CREATED:20170620T142300Z
LAST-MODIFIED:20170620T142300Z
UID:20170619T120000-31324@law.utexas.edu
SUMMARY:Fall OCI - Bidding Period Opens
DESCRIPTION:<p>Rising second- and third-year students and alumni up to one year after graduation are eligible to participate in <a title="Fall On-Campus Interviews" href="https://law.utexas.edu/career/interview-programs/fall-on-campus-interviews-session-i/">Fall On-Campus Interviews</a> per employer requests. Students may bid (apply) at any time during the online bidding period, which takes place June 19-July 6, 2017, on <a href="https://law-utexas-csm.symplicity.com/students/"> Symplicity</a>.</p>
  <p>Fall OCI: Session One will be held at the Texas Memorial Stadium - NEZ 9th Floor on August 8-18, 2017. 
  </p>\n\nIf you need an accommodation to participate in this event, please contact the event sponsor or the Texas Law Special Events Office at specialevents@law.utexas.edu no later than seven business days prior to the event.
X-ALT-DESC;FMTTYPE=text/html:<p>Rising second- and third-year students and alumni up to one year after graduation are eligible to participate in <a title="Fall On-Campus Interviews" href="https://law.utexas.edu/career/interview-programs/fall-on-campus-interviews-session-i/">Fall On-Campus Interviews</a> per employer requests. Students may bid (apply) at any time during the online bidding period, which takes place June 19-July 6, 2017, on <a href="https://law-utexas-csm.symplicity.com/students/"> Symplicity</a>.</p>
  <p>Fall OCI: Session One will be held at the Texas Memorial Stadium - NEZ 9th Floor on August 8-18, 2017. 
  </p><p>If you need an accommodation to participate in this event, please contact the event
                                          event sponsor or the Texas Law Special Events Office at <a href="mailto:specialevents@law.utexas.edu">specialevents@law.utexas.edu</a> no later than seven business days prior to the event.</p>
CATEGORIES:Interview Program

URL:http://law.utexas.edu/calendar/2017/06/19/31324/
CLASS:PUBLIC
STATUS:CONFIRMED
COMMENT:Please contact Sandra Puga, On-Campus Interview Coordinator, at 512-232-1161 or <a href="mailto:spuga@law.utexas.edu">spuga@law.utexas.edu</a>.
END:VEVENT
END:VCALENDAR