BEGIN:VCALENDAR
VERSION:2.0
PRODID:-//UNIVERSITY OF TEXAS SCHOOL OF LAW//NONSGML Events Calendar v1.0//EN
X-WR-TIMEZONE:America/Chicago
BEGIN:VTIMEZONE
TZID:US/Central
X-LIC-LOCATION:America/Chicago
BEGIN:DAYLIGHT
TZOFFSETFROM:-0600
TZOFFSETTO:-0500
TZNAME:CDT
DTSTART:19700308T020000
RRULE:FREQ=YEARLY;BYMONTH=3;BYDAY=2SU
END:DAYLIGHT
BEGIN:STANDARD
TZOFFSETFROM:-0500
TZOFFSETTO:-0600
TZNAME:CST
DTSTART:19701101T020000
RRULE:FREQ=YEARLY;BYMONTH=11;BYDAY=1SU
END:STANDARD
END:VTIMEZONE
BEGIN:VEVENT
DTSTART;TZID=US/Central:20171116T114500
DTEND;VALUE=DATE-TIME;TZID=US/Central:20171116T124500

DTSTAMP:20260420T001200Z
CREATED:20171106T191200Z
LAST-MODIFIED:20171110T163200Z
UID:20171116T114500-34725@law.utexas.edu
SUMMARY:Human Rights Internship Info Session
DESCRIPTION:<p>Thinking about a human rights or social justice internship? The Rapoport Center for Human Rights and Justice has multiple funding options and placements available!</p>
  <p>The Rapoport Center and the Human Rights Law Society invite you to an information session on human rights internships and fellowships. Come learn about how you can find and fund internships with human rights and social justice organizations here in the US and around the world. We also have specific placements already lined up.</p>
  <p>Summer? Semester? Abroad? Domestic? Funding? Credit? We've got 'em all covered.</p>
  <p>Free pizza!</p>
  <p>Former fellows and interns will share their experiences and will be available to answer questions. The CSO will also be on hand to discuss additional resources and support.</p>
  <p>FREE PIZZA!</p>
  <p>For more on opportunities for law students, please visit:</p>
  <p><a href="https://law.utexas.edu/humanrights/opportunity-type/law-students/">https://law.utexas.edu/humanrights/opportunity-type/law-students/</a></p>\n\nIf you need an accommodation to participate in this event, please contact the event sponsor or the Texas Law Special Events Office at specialevents@law.utexas.edu no later than seven business days prior to the event.
X-ALT-DESC;FMTTYPE=text/html:<p>Thinking about a human rights or social justice internship? The Rapoport Center for Human Rights and Justice has multiple funding options and placements available!</p>
  <p>The Rapoport Center and the Human Rights Law Society invite you to an information session on human rights internships and fellowships. Come learn about how you can find and fund internships with human rights and social justice organizations here in the US and around the world. We also have specific placements already lined up.</p>
  <p>Summer? Semester? Abroad? Domestic? Funding? Credit? We've got 'em all covered.</p>
  <p>Free pizza!</p>
  <p>Former fellows and interns will share their experiences and will be available to answer questions. The CSO will also be on hand to discuss additional resources and support.</p>
  <p>FREE PIZZA!</p>
  <p>For more on opportunities for law students, please visit:</p>
  <p><a href="https://law.utexas.edu/humanrights/opportunity-type/law-students/">https://law.utexas.edu/humanrights/opportunity-type/law-students/</a></p><p>If you need an accommodation to participate in this event, please contact the event
                                          event sponsor or the Texas Law Special Events Office at <a href="mailto:specialevents@law.utexas.edu">specialevents@law.utexas.edu</a> no later than seven business days prior to the event.</p>
CATEGORIES:Meeting
LOCATION:TNH 3.127 - Roberts Classroom
URL:http://law.utexas.edu/calendar/2017/11/16/34725/
CLASS:PUBLIC
STATUS:CONFIRMED

END:VEVENT
END:VCALENDAR