BEGIN:VCALENDAR
VERSION:2.0
PRODID:-//UNIVERSITY OF TEXAS SCHOOL OF LAW//NONSGML Events Calendar v1.0//EN
X-WR-TIMEZONE:America/Chicago
BEGIN:VTIMEZONE
TZID:US/Central
X-LIC-LOCATION:America/Chicago
BEGIN:DAYLIGHT
TZOFFSETFROM:-0600
TZOFFSETTO:-0500
TZNAME:CDT
DTSTART:19700308T020000
RRULE:FREQ=YEARLY;BYMONTH=3;BYDAY=2SU
END:DAYLIGHT
BEGIN:STANDARD
TZOFFSETFROM:-0500
TZOFFSETTO:-0600
TZNAME:CST
DTSTART:19701101T020000
RRULE:FREQ=YEARLY;BYMONTH=11;BYDAY=1SU
END:STANDARD
END:VTIMEZONE
BEGIN:VEVENT
DTSTART;TZID=US/Central:20220428


DTSTAMP:20260419T151200Z
CREATED:20210610T203000Z
LAST-MODIFIED:20210825T152200Z
UID:20220428T000000-60887@law.utexas.edu
SUMMARY:2021 Alumni Awards
DESCRIPTION:<p>2021 Texas Law Alumni Awards</p>
  <p>A highly-anticipated in-person celebration to honor our 2021 Alumni Award winners.</p>
  <p>Attendance by invitation only.</p>
  <p>Learn more about the Alumni Awards: <a href="https://law.utexas.edu/alumni/get-involved/alumni-awards/">https://law.utexas.edu/alumni/get-involved/alumni-awards/</a>
  </p>
  <p>(Rescheduled from Sept. 24, 2021)</p>\n\nIf you need an accommodation to participate in this event, please contact the event sponsor or the Texas Law Special Events Office at specialevents@law.utexas.edu no later than seven business days prior to the event.
X-ALT-DESC;FMTTYPE=text/html:<p>2021 Texas Law Alumni Awards</p>
  <p>A highly-anticipated in-person celebration to honor our 2021 Alumni Award winners.</p>
  <p>Attendance by invitation only.</p>
  <p>Learn more about the Alumni Awards: <a href="https://law.utexas.edu/alumni/get-involved/alumni-awards/">https://law.utexas.edu/alumni/get-involved/alumni-awards/</a>
  </p>
  <p>(Rescheduled from Sept. 24, 2021)</p><p>If you need an accommodation to participate in this event, please contact the event
                                          event sponsor or the Texas Law Special Events Office at <a href="mailto:specialevents@law.utexas.edu">specialevents@law.utexas.edu</a> no later than seven business days prior to the event.</p>
CATEGORIES:Dinner
LOCATION:Four Seasons
URL:http://law.utexas.edu/calendar/2022/04/28/60887/
CLASS:PUBLIC
STATUS:CONFIRMED
COMMENT:For more information, contact alumni@law.utexas.edu
END:VEVENT
END:VCALENDAR