BEGIN:VCALENDAR
VERSION:2.0
PRODID:-//UNIVERSITY OF TEXAS SCHOOL OF LAW//NONSGML Events Calendar v1.0//EN
X-WR-TIMEZONE:America/Chicago
BEGIN:VTIMEZONE
TZID:US/Central
X-LIC-LOCATION:America/Chicago
BEGIN:DAYLIGHT
TZOFFSETFROM:-0600
TZOFFSETTO:-0500
TZNAME:CDT
DTSTART:19700308T020000
RRULE:FREQ=YEARLY;BYMONTH=3;BYDAY=2SU
END:DAYLIGHT
BEGIN:STANDARD
TZOFFSETFROM:-0500
TZOFFSETTO:-0600
TZNAME:CST
DTSTART:19701101T020000
RRULE:FREQ=YEARLY;BYMONTH=11;BYDAY=1SU
END:STANDARD
END:VTIMEZONE
BEGIN:VEVENT
DTSTART;TZID=US/Central:20170120T114500
DTEND;VALUE=DATE-TIME;TZID=US/Central:20170120T130000

DTSTAMP:20260420T045100Z
CREATED:20161115T200700Z
LAST-MODIFIED:20170112T171700Z
UID:20170120T114500-27024@law.utexas.edu
SUMMARY:Developing Your Path to Public Service
DESCRIPTION:<p>In a small group setting, students, alumni and clinical faculty will share tips and strategies for exploring public sector law practice through clinics, internships, pro bono and networking. </p>
  <p>In a small group setting, students, alumni and clinical faculty will share tips and strategies for exploring public sector law practice through clinics, internships, pro bono, and networking. Small groups include:
  <strong>Civil Rights, </strong>facilitated by <a href="https://law.utexas.edu/faculty/rn332/">Ranjana Natarajan</a><strong>,</strong> Clinical Professor and Director, <a href="https://law.utexas.edu/clinics/civil-rights/">Texas Law Civil Rights Clinic</a>; and <a href="https://www.aclutx.org/en/biographies/kali-cohn">Kali Cohn, ‘14</a>, Staff Attorney, <a href="https://www.aclutx.org">American Civil Liberties Union of Texas</a>
   	<strong>Criminal Defense,</strong> facilitated by <a href="http://www.ocfw.texas.gov/staff-directory/ashley-steele.aspx">Ashley Steele, ‘14</a>, Post-Conviction Attorney, <a href="http://www.ocfw.texas.gov/">Office of Capital &amp; Forensic Writs</a>
   	<strong>Criminal Prosecution,</strong> facilitated by <a href="https://law.utexas.edu/faculty/bigchief/">Jeremy Sylestine</a>, Adjunct Professor, <a href="https://law.utexas.edu/internships/prosecution-internship/">Texas Law Prosecution Internship</a>
   	<strong>Environmental Law,</strong> facilitated by <a href="https://law.utexas.edu/faculty/klh488/">Kelly Haragan, '95</a>, Clinical Professor and Director, <a href="https://law.utexas.edu/clinics/environmental/">Texas Law Environmental Law Clinic</a>; Colleen Lenahan, ‘13, Attorney, <a href="https://www.tceq.texas.gov/about/organization/ols.html">Texas Commission on Environmental Quality - Office of Legal Services</a>; and Erin Gaines, ‘13, Attorney, <a href="http://www.trla.org/">Texas RioGrande Legal Aid</a>
   	<strong>Human Rights,</strong> facilitated by <a href="https://law.utexas.edu/faculty/aed636/">Ariel Dulitzky</a><strong>,</strong> Clinical Professor and Director, <a href="https://law.utexas.edu/clinics/human-rights/">Texas Law Human Rights Clinic</a>
   	<strong>Immigration Law,</strong> facilitated by <a href="https://law.utexas.edu/faculty/steglich/">Elissa Steglich, '00</a>, Clinical Professor, <a href="https://law.utexas.edu/clinics/immigration/">Texas Law Immigration Clinic</a>; and <a href="http://www.americangateways.org/about/who-we-are/">Whitney Drake, ’14</a>, Staff Attorney, <a href="http://www.americangateways.org/">American Gateways</a>
  </p>
  <p>Lunch will be served. </p>\n\nIf you need an accommodation to participate in this event, please contact the event sponsor or the Texas Law Special Events Office at specialevents@law.utexas.edu no later than seven business days prior to the event.
X-ALT-DESC;FMTTYPE=text/html:<p>In a small group setting, students, alumni and clinical faculty will share tips and strategies for exploring public sector law practice through clinics, internships, pro bono and networking. </p>
  <p>In a small group setting, students, alumni and clinical faculty will share tips and strategies for exploring public sector law practice through clinics, internships, pro bono, and networking. Small groups include:
  <strong>Civil Rights, </strong>facilitated by <a href="https://law.utexas.edu/faculty/rn332/">Ranjana Natarajan</a><strong>,</strong> Clinical Professor and Director, <a href="https://law.utexas.edu/clinics/civil-rights/">Texas Law Civil Rights Clinic</a>; and <a href="https://www.aclutx.org/en/biographies/kali-cohn">Kali Cohn, ‘14</a>, Staff Attorney, <a href="https://www.aclutx.org">American Civil Liberties Union of Texas</a>
   	<strong>Criminal Defense,</strong> facilitated by <a href="http://www.ocfw.texas.gov/staff-directory/ashley-steele.aspx">Ashley Steele, ‘14</a>, Post-Conviction Attorney, <a href="http://www.ocfw.texas.gov/">Office of Capital &amp; Forensic Writs</a>
   	<strong>Criminal Prosecution,</strong> facilitated by <a href="https://law.utexas.edu/faculty/bigchief/">Jeremy Sylestine</a>, Adjunct Professor, <a href="https://law.utexas.edu/internships/prosecution-internship/">Texas Law Prosecution Internship</a>
   	<strong>Environmental Law,</strong> facilitated by <a href="https://law.utexas.edu/faculty/klh488/">Kelly Haragan, '95</a>, Clinical Professor and Director, <a href="https://law.utexas.edu/clinics/environmental/">Texas Law Environmental Law Clinic</a>; Colleen Lenahan, ‘13, Attorney, <a href="https://www.tceq.texas.gov/about/organization/ols.html">Texas Commission on Environmental Quality - Office of Legal Services</a>; and Erin Gaines, ‘13, Attorney, <a href="http://www.trla.org/">Texas RioGrande Legal Aid</a>
   	<strong>Human Rights,</strong> facilitated by <a href="https://law.utexas.edu/faculty/aed636/">Ariel Dulitzky</a><strong>,</strong> Clinical Professor and Director, <a href="https://law.utexas.edu/clinics/human-rights/">Texas Law Human Rights Clinic</a>
   	<strong>Immigration Law,</strong> facilitated by <a href="https://law.utexas.edu/faculty/steglich/">Elissa Steglich, '00</a>, Clinical Professor, <a href="https://law.utexas.edu/clinics/immigration/">Texas Law Immigration Clinic</a>; and <a href="http://www.americangateways.org/about/who-we-are/">Whitney Drake, ’14</a>, Staff Attorney, <a href="http://www.americangateways.org/">American Gateways</a>
  </p>
  <p>Lunch will be served. </p><p>If you need an accommodation to participate in this event, please contact the event
                                          event sponsor or the Texas Law Special Events Office at <a href="mailto:specialevents@law.utexas.edu">specialevents@law.utexas.edu</a> no later than seven business days prior to the event.</p>
CATEGORIES:Workshop / Training Program
LOCATION:CCJ 2.306 - Eidman Courtroom
URL:http://law.utexas.edu/calendar/2017/01/20/27024/
CLASS:PUBLIC
STATUS:CONFIRMED
COMMENT:Please contact Nicole Simmons, Director of Public Service Programs, at 512-232-1160 or <a href="mailto:nsimmons@law.utexas.edu">nsimmons@law.utexas.edu</a>.
END:VEVENT
END:VCALENDAR